BEGIN:VCALENDAR
VERSION:2.0
PRODID:-//wp-events-plugin.com//7.2.3.1//EN
TZID:Asia/Tokyo
X-WR-TIMEZONE:Asia/Tokyo
BEGIN:VEVENT
UID:104@glassonion-records.com
DTSTART;TZID=Asia/Tokyo:20260512T194000
DTEND;TZID=Asia/Tokyo:20260512T223000
DTSTAMP:20260420T063445Z
URL:https://glassonion-records.com/events/cham-pan-pon20260512/
SUMMARY:恵比寿 Live Bar Cham Pan Pon (シャンパンポン)：Beatrio 
 ビートルズライブ
DESCRIPTION:ビートルズの名曲をトリオで！\n\nopen 19:00\n1st 1
 9:40～\n2nd 20:50～\n3rd 22:00～\n\nトミー as John\n手島正揮as P
 aul\nKosuke Inami as George\n\n恵比寿 Live Bar Cham Pan Pon (シャン
 パンポン)\n150-0013\n東京都渋谷区恵比寿1-26-1 藤原ビル1F\
 nTEL：080-7203-3859\nＪＲ恵比寿駅東口(恵比寿1-4丁目方面)
 より徒歩約7分\n東京メトロ日比谷線恵比寿駅１出口よ
 り徒歩約12分\n\nmc：男性3\,300円　女性2\,750円　+2オーダ
 ー\n(3時間以降:30分ごとに￥330)\n\nご予約は、恵比寿ジ
 ャンケンポンHPか、こちらのお問い合わせフォームで！
 \n\n
ATTACH;FMTTYPE=image/jpeg:https://glassonion-records.com/wp-content/upload
 s/2026/03/恵比寿シャンパンポン_20260512-1.jpg
CATEGORIES:ライブイベント,東京ライブ
LOCATION:恵比寿 Live Bar Cham Pan Pon (シャンパンポン)\, 東京
 都渋谷区恵比寿1-26-1\, 渋谷区\, 東京都\, 1500013\, 日本
X-APPLE-STRUCTURED-LOCATION;VALUE=URI;X-ADDRESS=東京都渋谷区恵比寿
 1-26-1\, 渋谷区\, 東京都\, 1500013\, 日本;X-APPLE-RADIUS=100;X-TIT
 LE=恵比寿 Live Bar Cham Pan Pon (シャンパンポン):geo:0,0
END:VEVENT
BEGIN:VTIMEZONE
TZID:Asia/Tokyo
X-LIC-LOCATION:Asia/Tokyo
BEGIN:STANDARD
DTSTART:20250512T194000
TZOFFSETFROM:+0900
TZOFFSETTO:+0900
TZNAME:JST
END:STANDARD
END:VTIMEZONE
END:VCALENDAR